BEGIN:VCALENDAR
VERSION:2.0
PRODID:-//GEMINI Initiative - ECPv5.7.0//NONSGML v1.0//EN
CALSCALE:GREGORIAN
METHOD:PUBLISH
X-WR-CALNAME:GEMINI Initiative
X-ORIGINAL-URL:https://gemini-initiative.com
X-WR-CALDESC:Events for GEMINI Initiative
BEGIN:VTIMEZONE
TZID:Europe/Paris
BEGIN:DAYLIGHT
TZOFFSETFROM:+0100
TZOFFSETTO:+0200
TZNAME:CEST
DTSTART:20180325T010000
END:DAYLIGHT
BEGIN:STANDARD
TZOFFSETFROM:+0200
TZOFFSETTO:+0100
TZNAME:CET
DTSTART:20181028T010000
END:STANDARD
END:VTIMEZONE
BEGIN:VEVENT
DTSTART;VALUE=DATE:20180314
DTEND;VALUE=DATE:20180317
DTSTAMP:20260424T024506
CREATED:20180110T104556Z
LAST-MODIFIED:20180716T073817Z
UID:23917-1520985600-1521244799@gemini-initiative.com
SUMMARY:The 2018 European Hydrogen Energy Conference (EHEC)
DESCRIPTION:The European Hydrogen Energy Conference (EHEC) is the Europe’s conference of reference in the field of hydrogen energy. It provides an excellent framework for updates on hydrogen and fuel cell technologies and represents the best setting to show the latest advances in research\, projects and products. Moreover\, the conference brings together professionals\, companies\, research centres\, public and private institutes and decision-makers from throughout the entire hydrogen and fuel cell sector. \nIn addition to a trade fair\, different plenary sessions and oral presentations and posters are scheduled for the 2018 edition. \nThe full programme is available here.
URL:https://gemini-initiative.com/event/the-2018-european-hydrogen-energy-conference-ehec/
LOCATION:Malaga\, Malaga\, Spain
CATEGORIES:European events
ATTACH;FMTTYPE=image/jpeg:https://gemini-initiative.com/wp-content/uploads/2018/01/Capture-6.jpg
END:VEVENT
END:VCALENDAR